BEGIN:VCALENDAR
VERSION:2.0
PRODID:-//CiviCRM//NONSGML CiviEvent iCal//EN
METHOD:PUBLISH

BEGIN:VEVENT
UID:CiviCRM_EventID_392_e2b18443ffaa5efa55d28a4333c84b97@watereducationcolorado.org
SUMMARY:Webinar: Colorado’s New Program to Protect Aquatic
  Ecosystems from the Impacts of Dredge & Fill Acti
 vities
DESCRIPTION:Webinar: Colorado’s New Program to Protect Aquatic
  Ecosystems from the Impacts of Dredge & Fill Acti
 vities\n \n \n \n In May 2024\, Colorado became th
 e first state in the nation to enact legislation i
 n response to the significant reduction in the sco
 pe of federal ecosystem protection resulting from 
 the U.S. Supreme Court's Sackett decision. Through
  that legislation and a brand new regulation adopt
 ed by the Water Quality Control Commission\, the W
 ater Quality Control Division is now regulating th
 e discharge of dredged and fill material into "sta
 te waters" that are not "waters of the United Stat
 es" through its own program\, which borrows heavil
 y from the longstanding U.S. Army Corps of Enginee
 rs Section 404 permitting framework.\n \n \n \n Jo
 in WEco and the Colorado Water Quality Control Div
 ision team for an overview of the state's new regu
 latory program\, designed to protect our wetlands\
 , streams\, lakes\, and the ecosystems they suppor
 t from the impacts of dredge and fill activities r
 elated to construction\, infrastructure developmen
 t\, mining\, and even stream restoration projects.
 \n \n \n \n With speakers:\n \n \n \n Kelly Morgan
 \, WQCD\, Manager\, Clean Water Compliance & Enfor
 cement Section\n \n Annette Quill\, WQCD\, Senior 
 Policy Advisor\n \n \n \n \n \n \n \n  \n \n \n \n
  Scholarships are available! To learn more or requ
 est one\, contact caitlin@wateredco.org.\n \n \n \
 n This webinar is made possible with support from 
 the Colorado Water Conservation Board.\n \n 
CATEGORIES:Webinar
CALSCALE:GREGORIAN
TZID:America/Denver
DTSTAMP;TZID=America/Denver:20260505T120000
DTSTART;TZID=America/Denver:20260505T120000
DTEND;TZID=America/Denver:20260505T130000
URL:https://watereducationcolorado.org/civicrm/event/info/?reset=1&id=392
END:VEVENT
END:VCALENDAR
